BEGIN:VCALENDAR
VERSION:2.0
PRODID:-//wp-events-plugin.com//7.2.3.1//EN
TZID:Europe/Berlin
X-WR-TIMEZONE:Europe/Berlin
BEGIN:VEVENT
UID:197@meditation-frankfurt.net
DTSTART;TZID=Europe/Berlin:20200424T193000
DTEND;TZID=Europe/Berlin:20200424T204500
DTSTAMP:20191125T101757Z
URL:https://www.meditation-frankfurt.net/events/offene-meditation-in-bad-n
 auheim-steinfurth-6/
SUMMARY:Offene Meditation in Bad Nauheim/Steinfurth
DESCRIPTION:Jeden ersten Freitag im Monat kommen wir in einer offenen Grupp
 e zur Meditation zusammen. Ist es Freitags nicht möglich\, findet der Ter
 min am Sonntag statt.\n\nMeditation ist die ideale Ergänzung zu Yoga und 
 hilft die Gedanken im Geist zur Ruhe kommen zu lassen.\n\nDu kannst in die
 ser Stunde den Alltag der Woche hinter dir lassen und Kraft tanken für de
 ine Regeneration. Dein Körper kommt zur Ruhe und schöpft neue Energie\, 
 dein Geist denkt weniger in negativen Schleifen und bekommt ein positive G
 rundausrichtung. Wir üben unterschiedliche Meditationen und ergänzen die
  Meditation mit Atemübungen.\n\nJede/r ist willkommen\, ob Neuling oder e
 rfahren im Meditieren.\nTermin:\n19:30 – 20:45 Uhr\nca. jeden ersten Fre
 itag/Sonntag im Monat\nOrt: Yoga Raum Steinfurth\, Zum Sauerbrunnen 17\, 6
 1231 Bad Nauheim\nKosten:\n12 Euro oder über 10er Karte Yoga\nDauer:\n75 
 min\nMitzubringen:\nBequeme Kleidung.\n(Sitzkissen und Decken sind vorhand
 en)\nAnmeldung:\nEmail an info@yoga-steinfurth.de
CATEGORIES:Meditation Bad Nauheim Steinfurth
LOCATION:Yoga Raum Steinfurth\, Zum Sauerbrunnen 17\, Bad Nauheim\, 61231\,
  Deutschland
X-APPLE-STRUCTURED-LOCATION;VALUE=URI;X-ADDRESS=Zum Sauerbrunnen 17\, Bad N
 auheim\, 61231\, Deutschland;X-APPLE-RADIUS=100;X-TITLE=Yoga Raum Steinfur
 th:geo:0,0
END:VEVENT
BEGIN:VTIMEZONE
TZID:Europe/Berlin
X-LIC-LOCATION:Europe/Berlin
BEGIN:DAYLIGHT
DTSTART:20200329T030000
TZOFFSETFROM:+0100
TZOFFSETTO:+0200
TZNAME:CEST
END:DAYLIGHT
END:VTIMEZONE
END:VCALENDAR