BEGIN:VCALENDAR
VERSION:2.0
PRODID:-//wp-events-plugin.com//7.2.3.1//EN
TZID:Europe/Berlin
X-WR-TIMEZONE:Europe/Berlin
BEGIN:VEVENT
UID:333@meditation-frankfurt.net
DTSTART;TZID=Europe/Berlin:20200623T173000
DTEND;TZID=Europe/Berlin:20200623T181500
DTSTAMP:20200817T095413Z
URL:https://www.meditation-frankfurt.net/events/after-work-meditation-3-20
 20-06-23/
SUMMARY:After Work Meditation
DESCRIPTION:Die After Work Meditation bietet Ihnen abwechslungsreiche Übun
 gen zur Entspannung und zum Ausgleich der Anforderungen an Ihrem Arbeitspl
 atz. Hier können Sie wieder zu Ihrer Mitte finden und sich mit Ihrer Kraf
 t verbinden. Achtsamkeit\, Konzentration\, Loslassen\, Bewegung gehören r
 egelmäßig zum Programm. Und Spaß soll es auch machen…\n\nWichtig:\nAu
 fgrund der aktuellen Rahmenbedingungen ist die maximale Anzahl der Plätze
  auf 5 Personen begrenzt. Daher ist unbedingt eine verbindliche Anmeldung 
 über das unten stehende Anmeldeformular erforderlich. Anmeldung bitte bis
  Dienstag 14 Uhr.\n\nGleichzeitig wird die Meditation bis auf weiteres onl
 ine übertragen. Die Zugangsdaten stehen weiter unten.\n\nIch bitte um die
  Beachtung der folgenden Regelungen:\n- max. 5 Teilnehmer\n- vorherige ver
 bindliche Anmeldung zu jedem Termin\n- bitte Abstand halten im Eingangsber
 eich\n- Fenster bleibt offen während der Meditation\n- bitte Decken und w
 arme Kleidung selbst mitbringen\n- die Matten werden jedes Mal mit Fläche
 ndesinfektion gereinigt\nKosten:\n10 Euro\nDauer:\n45 min\nMitzubringen:\n
 Bequeme\, warme Kleidung und Decken\n(Sitzkissen sind vorhanden)\nAnmeldun
 g:\nBitte über das unten stehende Anmeldeformular.\nZugangsdaten für Onl
 ine Teilnahme\nZoom-Meeting beitreten\nhttps://zoom.us/j/695442941\n\nMeet
 ing-ID: 695 442 941\n\nSchnelleinwahl mobil\n+496950502596\,\,695442941# D
 eutschland\n+496971049922\,\,695442941# Deutschland\n\nEinwahl nach aktuel
 lem Standort\n+49 69 7104 9922 Deutschland\n+49 30 5679 5800 Deutschland\n
 +49 69 5050 2596 Deutschland\n\nMeeting-ID: 695 442 941
CATEGORIES:After Work Meditation
LOCATION:Schunk.med\, Schadowstr. 6\, FFM-Sachsenhausen\, Schadowstr. 6\, F
 rankfurt am Main\, 50596\, Deutschland
X-APPLE-STRUCTURED-LOCATION;VALUE=URI;X-ADDRESS=Schadowstr. 6\, Frankfurt a
 m Main\, 50596\, Deutschland;X-APPLE-RADIUS=100;X-TITLE=Schunk.med\, Schad
 owstr. 6\, FFM-Sachsenhausen:geo:0,0
END:VEVENT
BEGIN:VTIMEZONE
TZID:Europe/Berlin
X-LIC-LOCATION:Europe/Berlin
BEGIN:DAYLIGHT
DTSTART:20200329T030000
TZOFFSETFROM:+0100
TZOFFSETTO:+0200
TZNAME:CEST
END:DAYLIGHT
END:VTIMEZONE
END:VCALENDAR